BEGIN:VCALENDAR
VERSION:2.0
PRODID:-//Fusão Soluções para Medicina - ECPv6.15.20//NONSGML v1.0//EN
CALSCALE:GREGORIAN
METHOD:PUBLISH
X-WR-CALNAME:Fusão Soluções para Medicina
X-ORIGINAL-URL:https://fusao.com
X-WR-CALDESC:Eventos para Fusão Soluções para Medicina
REFRESH-INTERVAL;VALUE=DURATION:PT1H
X-Robots-Tag:noindex
X-PUBLISHED-TTL:PT1H
BEGIN:VTIMEZONE
TZID:America/Sao_Paulo
BEGIN:STANDARD
TZOFFSETFROM:-0200
TZOFFSETTO:-0300
TZNAME:-03
DTSTART:20180218T020000
END:STANDARD
BEGIN:DAYLIGHT
TZOFFSETFROM:-0300
TZOFFSETTO:-0200
TZNAME:-02
DTSTART:20181104T030000
END:DAYLIGHT
BEGIN:STANDARD
TZOFFSETFROM:-0200
TZOFFSETTO:-0300
TZNAME:-03
DTSTART:20190217T020000
END:STANDARD
END:VTIMEZONE
BEGIN:VEVENT
DTSTART;VALUE=DATE:20201007
DTEND;VALUE=DATE:20201011
DTSTAMP:20260425T124253
CREATED:20200103T131536Z
LAST-MODIFIED:20200103T131536Z
UID:2312-1602028800-1602374399@fusao.com
SUMMARY:NASS2020
DESCRIPTION:NASS2020\nSAN DIEGO\, CA
URL:https://fusao.com/evento/nass2020/
LOCATION:SAN DIEGO\, San Diego\, Califórnia\, Estados Unidos
END:VEVENT
BEGIN:VEVENT
DTSTART;VALUE=DATE:20201007
DTEND;VALUE=DATE:20201010
DTSTAMP:20260425T124253
CREATED:20200103T125456Z
LAST-MODIFIED:20200103T125538Z
UID:2295-1602028800-1602287999@fusao.com
SUMMARY:Eurospine
DESCRIPTION:EUROSPINE 2020
URL:https://fusao.com/evento/eurospine/
LOCATION:Vienna\, Messeplatz 1\, 1021 Wien\, Brasil
END:VEVENT
BEGIN:VEVENT
DTSTART;VALUE=DATE:20200902
DTEND;VALUE=DATE:20200907
DTSTAMP:20260425T124253
CREATED:20200103T130942Z
LAST-MODIFIED:20200103T130942Z
UID:2307-1599004800-1599436799@fusao.com
SUMMARY:Congresso Brasileiro de Neurocirurgia
DESCRIPTION:Congresso Brasileiro de Neurocirurgia 2020
URL:https://fusao.com/evento/congresso-brasileiro-de-neurocirurgia/
LOCATION:JOÃO PESSOA\, JOÃO PESSOA\, Brasil
END:VEVENT
BEGIN:VEVENT
DTSTART;VALUE=DATE:20200821
DTEND;VALUE=DATE:20200823
DTSTAMP:20260425T124253
CREATED:20200103T130044Z
LAST-MODIFIED:20200103T130044Z
UID:2304-1597968000-1598140799@fusao.com
SUMMARY:Curso de Coluna Vertebral
DESCRIPTION:Curso de Coluna Vertebral 2020
URL:https://fusao.com/evento/curso-de-coluna-vertebral/
LOCATION:RIBEIRÃO PRETO\, São Paulo\, Brasil
END:VEVENT
BEGIN:VEVENT
DTSTART;VALUE=DATE:20200520
DTEND;VALUE=DATE:20200524
DTSTAMP:20260425T124253
CREATED:20200103T125857Z
LAST-MODIFIED:20200103T125857Z
UID:2301-1589932800-1590278399@fusao.com
SUMMARY:Global Spine Congress
DESCRIPTION:Global Spine Congress 2020
URL:https://fusao.com/evento/global-spine-congress/
LOCATION:Rio de Janeiro\, Rio de Janeiro\, Brasil
END:VEVENT
BEGIN:VEVENT
DTSTART;VALUE=DATE:20200318
DTEND;VALUE=DATE:20200321
DTSTAMP:20260425T124253
CREATED:20200103T125729Z
LAST-MODIFIED:20200103T125729Z
UID:2298-1584489600-1584748799@fusao.com
SUMMARY:Congresso Brasileiro de Cirurgia Espinhal
DESCRIPTION:Congresso Brasileiro de Cirurgia Espinhal 2020
URL:https://fusao.com/evento/congresso-brasileiro-de-cirurgia-espinhal-2/
LOCATION:São Paulo\, São Paulo\, Brasil
END:VEVENT
BEGIN:VEVENT
DTSTART;TZID=America/Sao_Paulo:20191129T080000
DTEND;TZID=America/Sao_Paulo:20191130T170000
DTSTAMP:20260425T124253
CREATED:20190106T100055Z
LAST-MODIFIED:20190225T214515Z
UID:1903-1575014400-1575133200@fusao.com
SUMMARY:Curso de Coluna: Técnicas Modernas e Avanços na Cirurgia da Coluna Vertebral
DESCRIPTION:Curso de Coluna: Técnicas Modernas e Avanços na Cirurgia da Coluna Vertebral
URL:https://fusao.com/evento/curso-de-coluna-tecnicas-modernas-e-avancos-na-cirurgia-da-coluna-vertebral/
END:VEVENT
BEGIN:VEVENT
DTSTART;TZID=America/Sao_Paulo:20190320T073000
DTEND;TZID=America/Sao_Paulo:20190322T184200
DTSTAMP:20260425T124253
CREATED:20190106T093024Z
LAST-MODIFIED:20190107T034400Z
UID:1673-1553067000-1553280120@fusao.com
SUMMARY:Congresso Brasileiro de Cirurgia Espinhal
DESCRIPTION:Congresso Brasileiro de Cirurgia Espinhal
URL:https://fusao.com/evento/congresso-brasileiro-de-cirurgia-espinhal/
LOCATION:Maksoud Plaza\, Sao Paulo‎\, Alameda Campinas\, 150 - Jardim Paulista\, São Paulo\, São Paulo\, 01404-900\, Brasil
END:VEVENT
END:VCALENDAR